BEGIN:VCALENDAR
VERSION:2.0
PRODID:-//Manna Church - West Florida - ECPv6.15.20//NONSGML v1.0//EN
CALSCALE:GREGORIAN
METHOD:PUBLISH
X-WR-CALNAME:Manna Church - West Florida
X-ORIGINAL-URL:https://westflorida.manna.church
X-WR-CALDESC:Events for Manna Church - West Florida
REFRESH-INTERVAL;VALUE=DURATION:PT1H
X-Robots-Tag:noindex
X-PUBLISHED-TTL:PT1H
BEGIN:VTIMEZONE
TZID:America/Chicago
BEGIN:DAYLIGHT
TZOFFSETFROM:-0600
TZOFFSETTO:-0500
TZNAME:CDT
DTSTART:20250309T080000
END:DAYLIGHT
BEGIN:STANDARD
TZOFFSETFROM:-0500
TZOFFSETTO:-0600
TZNAME:CST
DTSTART:20251102T070000
END:STANDARD
BEGIN:DAYLIGHT
TZOFFSETFROM:-0600
TZOFFSETTO:-0500
TZNAME:CDT
DTSTART:20260308T080000
END:DAYLIGHT
BEGIN:STANDARD
TZOFFSETFROM:-0500
TZOFFSETTO:-0600
TZNAME:CST
DTSTART:20261101T070000
END:STANDARD
BEGIN:DAYLIGHT
TZOFFSETFROM:-0600
TZOFFSETTO:-0500
TZNAME:CDT
DTSTART:20270314T080000
END:DAYLIGHT
BEGIN:STANDARD
TZOFFSETFROM:-0500
TZOFFSETTO:-0600
TZNAME:CST
DTSTART:20271107T070000
END:STANDARD
END:VTIMEZONE
BEGIN:VEVENT
DTSTART;TZID=America/Chicago:20260426T093000
DTEND;TZID=America/Chicago:20260426T103000
DTSTAMP:20260420T040834
CREATED:20260123T221611Z
LAST-MODIFIED:20260123T221611Z
UID:7836-1777195800-1777199400@westflorida.manna.church
SUMMARY:Child Dedication
DESCRIPTION:Please register if you would like to be notified when our next available Child Dedication is. Children are dedicated during the second service.  \nWould you like your family to come into town for this special occasion? Simply register for a future event and check that you would like to speak to a Manna Leader. A member of our team will contact you to discuss dates that work for the entire family.  \nWhy do we dedicate children?1 Samuel 1:26-28 is a key example of Child Dedication. God answered Hannah’s prayer by giving her a son\, and she remembered her vow: “As surely as you live\, my Lord\, I am the woman who stood here beside you praying to the Lord. I prayed for this child\, and the Lord has granted me what I asked of him. So now I give him to the Lord. For his whole life\, he will be given over to the Lord. And he worshipped the Lord there.”
URL:https://westflorida.manna.church/event/child-dedication-2/
CATEGORIES:Sunday Morning Event
ATTACH;FMTTYPE=image/jpeg:https://westflorida.manna.church/wp-content/uploads/2026/01/medium_image-1684940959735-1.jpg
END:VEVENT
BEGIN:VEVENT
DTSTART;TZID=America/Chicago:20260425T053000
DTEND;TZID=America/Chicago:20260425T093000
DTSTAMP:20260420T040834
CREATED:20260220T201616Z
LAST-MODIFIED:20260220T201617Z
UID:7938-1777095000-1777109400@westflorida.manna.church
SUMMARY:MUDRUN for Orphans
DESCRIPTION:The Emerald Coast Mud Run for Orphans benefits Heart of the Bride Ministries serving orphaned and vulnerable children and their families in Haiti\, India\, Kenya\, Zambia\, and the panhandle of Florida. You can actually get muddy and do good! We would like to focus on serving in three areas this year: the Manna Tent\, the Start Line\, and the H2O Station. \nPlease note that the Start Line and H2O Station will require a two-part registration process. You will receive a separate link for that registration if you are interested in serving in those areas. \nManna Tent: Engage and hand out race day food fuel with attender’s. Goal is to share about Manna and invite people to join us on a Sunday \nStart Line:  This is a high-energy role. Help pump up runners in the queue\, check armbands or bibs and get them counted off for each wave. This would be better for groups of 4 or more who want to be together great for teens or adults.    H2O Station: H2O Stations is generally be 2-person stations\, if you have children they must be 6 yrs or older.  The role is cheering on runners and keeping the cup dispensers full.   Coach: A coach will be in communication with the teams both leading up to the event and on the day of the event\, as well as following up afterward. Each time slot will have a designated coach who will rotate among the areas on the day of the event to assist SERVE team members with any questions they may have.
URL:https://westflorida.manna.church/event/mudrun-for-orphans/
CATEGORIES:Outreach
ATTACH;FMTTYPE=image/jpeg:https://westflorida.manna.church/wp-content/uploads/2026/02/medium_image-1771616831296.jpeg
END:VEVENT
BEGIN:VEVENT
DTSTART;TZID=America/Chicago:20260419T123000
DTEND;TZID=America/Chicago:20260419T143000
DTSTAMP:20260420T040834
CREATED:20260414T191547Z
LAST-MODIFIED:20260414T191548Z
UID:8233-1776601800-1776609000@westflorida.manna.church
SUMMARY:Dinner with Dad
DESCRIPTION:The Crestview Church of the Nazarene hosts Dinner with Dad’s\, serving lunch to those in need in our community—and we’re excited that Manna Church gets to be part of it! \nOn the third Sunday of each month\, we’ll be stepping in to lend a helping hand by serving the meal and helping clean up afterward. It’s a simple act of kindness that makes a real impact and shows love in a tangible way. \nWhether you’ve served before or this is your first time\, this is a great opportunity to be part of outreach and make a difference right here in our community. No special skills needed—just a willing heart and a desire to serve. \nWe need about 4-5 people (including kids & adults) each Sunday for this outreach. This outreach is great for families with elementary aged kids and above! Come be part of something meaningful—we’d love to have you on the team! \nPlease wear your red\, Manna Serve shirt! \n Sign up and join us for Dinner with Dad’s!
URL:https://westflorida.manna.church/event/dinner-with-dad/
ATTACH;FMTTYPE=image/jpeg:https://westflorida.manna.church/wp-content/uploads/2026/04/medium_image-1775516660954.jpeg
END:VEVENT
BEGIN:VEVENT
DTSTART;TZID=America/Chicago:20260222T103000
DTEND;TZID=America/Chicago:20260222T113000
DTSTAMP:20260420T040834
CREATED:20260123T221611Z
LAST-MODIFIED:20260123T221611Z
UID:7833-1771756200-1771759800@westflorida.manna.church
SUMMARY:Child Dedication
DESCRIPTION:Please register if you would like to be notified when our next available Child Dedication is. Children are dedicated during the second service.  \nWould you like your family to come into town for this special occasion? Simply register for a future event and check that you would like to speak to a Manna Leader. A member of our team will contact you to discuss dates that work for the entire family.  \nWhy do we dedicate children?1 Samuel 1:26-28 is a key example of Child Dedication. God answered Hannah’s prayer by giving her a son\, and she remembered her vow: “As surely as you live\, my Lord\, I am the woman who stood here beside you praying to the Lord. I prayed for this child\, and the Lord has granted me what I asked of him. So now I give him to the Lord. For his whole life\, he will be given over to the Lord. And he worshipped the Lord there.”
URL:https://westflorida.manna.church/event/child-dedication/
CATEGORIES:Sunday Morning Event
ATTACH;FMTTYPE=image/jpeg:https://westflorida.manna.church/wp-content/uploads/2026/01/medium_image-1684940959735.jpg
END:VEVENT
END:VCALENDAR